0.04225244065073
-0.07946528335730
-0.07946528335730
-0.04225244065073
697786.59572465252000
234956.06796092057000
