0.04225244065073
-0.07946528335730
-0.07946528335730
-0.04225244065073
696496.59572465252000
237321.06796092057000
