0.04225244065073
-0.07946528335730
-0.07946528335730
-0.04225244065073
695306.59572465252000
239537.06796092057000
