0.04225244065073
-0.07946528335730
-0.07946528335730
-0.04225244065073
694184.59572465252000
241617.06796092057000
