0.04225244065073
-0.07946528335730
-0.07946528335730
-0.04225244065073
693335.59572465252000
243191.06796092057000
