0.04225244065073
-0.07946528335730
-0.07946528335730
-0.04225244065073
693060.59572465252000
243710.06796092057000
