0.04225244065073
-0.07946528335730
-0.07946528335730
-0.04225244065073
692759.59572465252000
244276.06796092057000
