0.04225244065073
-0.07946528335730
-0.07946528335730
-0.04225244065073
691506.59572465252000
246574.06796092057000
