0.04225244065073
-0.07946528335730
-0.07946528335730
-0.04225244065073
689832.59572465252000
249667.06796092057000
