-0.04225244065073
0.07946528335730
0.07946528335730
0.04225244065073
696230.40427534748000
231713.93203907943000
