-0.04225244065073
0.07946528335730
0.07946528335730
0.04225244065073
694426.40427534748000
235028.93203907943000
