-0.04225244065073
0.07946528335730
0.07946528335730
0.04225244065073
693670.40427534748000
236444.93203907943000
