-0.04225244065073
0.07946528335730
0.07946528335730
0.04225244065073
690838.40427534748000
241702.93203907943000
