-0.04225244065073
0.07946528335730
0.07946528335730
0.04225244065073
689854.40427534748000
243524.93203907943000
