-0.04225244065073
0.07946528335730
0.07946528335730
0.04225244065073
687543.40427534748000
247836.93203907943000
