-0.04225244065073
0.07946528335730
0.07946528335730
0.04225244065073
686425.40427534748000
249887.93203907943000
