0.04225244065073
-0.07946528335730
-0.07946528335730
-0.04225244065073
692802.42742458335000
239561.65080469675000
