0.04225244065073
-0.07946528335730
-0.07946528335730
-0.04225244065073
686379.42742458335000
251531.65080469675000
