0.04225244065073
-0.07946528335730
-0.07946528335730
-0.04225244065073
692988.42742458335000
236969.65080469675000
