0.04225244065073
-0.07946528335730
-0.07946528335730
-0.04225244065073
690625.42742458335000
241363.65080469675000
