0.04225244065073
-0.07946528335730
-0.07946528335730
-0.04225244065073
688968.42742458335000
244430.65080469675000
