0.04225244065073
-0.07946528335730
-0.07946528335730
-0.04225244065073
686974.42742458335000
248075.65080469675000
