0.04225244065073
-0.07946528335730
-0.07946528335730
-0.04225244065073
684275.42742458335000
253073.65080469675000
