-0.04225244065073
0.07946528335730
0.07946528335730
0.04225244065073
690809.03463093378000
234625.89521962337000
