-0.04225244065073
0.07946528335730
0.07946528335730
0.04225244065073
688234.03463093378000
239418.89521962337000
