-0.04225244065073
0.07946528335730
0.07946528335730
0.04225244065073
686627.03463093378000
242398.89521962337000
