-0.04225244065073
0.07946528335730
0.07946528335730
0.04225244065073
685731.03463093378000
244061.89521962337000
