-0.04225244065073
0.07946528335730
0.07946528335730
0.04225244065073
684247.03463093378000
246784.89521962337000
