0.04225244065073
-0.07946528335730
-0.07946528335730
-0.04225244065073
684298.76402472169000
247977.48511714427000
