0.00000000000000
0.13000000000000
0.13000000000000
-0.00000000000000
715187.98248548701000
242929.70690007176000
