0.00000000000000
0.13000000000000
0.13000000000000
-0.00000000000000
710641.98248548701000
239065.70690007176000
