-0.00000000000000
-0.13000000000000
-0.13000000000000
0.00000000000000
711460.01751451299000
242244.29309992824000
