0.00000000000000
0.13000000000000
0.13000000000000
-0.00000000000000
707459.69829006598000
249465.16133879073000
