0.00000000000000
0.13000000000000
0.13000000000000
-0.00000000000000
707612.98248548701000
246757.70690007176000
