-0.00000000000000
-0.13000000000000
-0.13000000000000
0.00000000000000
708536.65961222351000
244875.56588056876000
