-0.00000000000000
-0.13000000000000
-0.13000000000000
0.00000000000000
708504.65961222351000
235560.56588056876000
