0.00000000000000
0.13000000000000
0.13000000000000
-0.00000000000000
704579.66143663169000
264916.57050975150000
