0.00000000000000
0.13000000000000
0.13000000000000
-0.00000000000000
704555.66143663169000
260313.57050975150000
