0.00000000000000
0.13000000000000
0.13000000000000
-0.00000000000000
704523.66143663169000
258699.57050975150000
