0.00000000000000
0.13000000000000
0.13000000000000
-0.00000000000000
704452.66143663169000
238215.57050975150000
