0.00000000000000
0.13000000000000
0.13000000000000
-0.00000000000000
703019.98248548689000
265305.70690007176000
