0.00000000000000
0.13000000000000
0.13000000000000
-0.00000000000000
702987.98248548701000
257082.70690007176000
