0.00000000000000
0.13000000000000
0.13000000000000
-0.00000000000000
702972.98248548701000
251163.70690007176000
