0.00000000000000
0.13000000000000
0.13000000000000
-0.00000000000000
702892.98248548701000
238324.70690007176000
