-0.00000000000000
-0.13000000000000
-0.13000000000000
0.00000000000000
703768.01751451299000
264336.29309992824000
