-0.00000000000000
-0.13000000000000
-0.13000000000000
0.00000000000000
703782.01751451299000
259162.29309992824000
