-0.00000000000000
-0.13000000000000
-0.13000000000000
0.00000000000000
703719.01751451299000
247763.29309992824000
