-0.00000000000000
-0.13000000000000
-0.13000000000000
0.00000000000000
703647.01751451299000
239322.29309992824000
