0.00000000000000
0.13000000000000
0.13000000000000
-0.00000000000000
699802.98248548689000
276159.70690007176000
