0.00000000000000
0.13000000000000
0.13000000000000
-0.00000000000000
699802.98248548689000
275288.70690007176000
